BEGIN:VCALENDAR
VERSION:2.0
PRODID:-//Commune de Sevremont - ECPv4.7.3//NONSGML v1.0//EN
CALSCALE:GREGORIAN
METHOD:PUBLISH
X-WR-CALNAME:Commune de Sevremont
X-ORIGINAL-URL:https://www.sevremont.fr
X-WR-CALDESC:Évènements pour Commune de Sevremont
BEGIN:VEVENT
DTSTART;TZID=Europe/Paris:20191011T183000
DTEND;TZID=Europe/Paris:20191011T183000
DTSTAMP:20260421T153830
CREATED:20191004T073928Z
LAST-MODIFIED:20191004T073928Z
UID:61609-1570818600-1570818600@www.sevremont.fr
SUMMARY:Portes ouvertes à l'école Saint-Joseph-La Flocellière
DESCRIPTION:
URL:https://www.sevremont.fr/evenement/portes-ouvertes-a-lecole-saint-joseph-la-flocelliere/
LOCATION:Ecole Saint-Joseph-La Flocellière
CATEGORIES:éducation
END:VEVENT
END:VCALENDAR