BEGIN:VCALENDAR
VERSION:2.0
PRODID:-//Commune de Sevremont - ECPv4.7.3//NONSGML v1.0//EN
CALSCALE:GREGORIAN
METHOD:PUBLISH
X-WR-CALNAME:Commune de Sevremont
X-ORIGINAL-URL:https://www.sevremont.fr
X-WR-CALDESC:Évènements pour Commune de Sevremont
BEGIN:VEVENT
DTSTART;TZID=Europe/Paris:20191124T090000
DTEND;TZID=Europe/Paris:20191124T163000
DTSTAMP:20260421T140010
CREATED:20190705T085049Z
LAST-MODIFIED:20190705T085049Z
UID:26642-1574586000-1574613000@www.sevremont.fr
SUMMARY:Portes ouvertes-Club de loisirs Castelmurois
DESCRIPTION:
URL:https://www.sevremont.fr/evenement/portes-ouvertes-club-de-loisirs-castelmurois/
LOCATION:Salle Châteaumur – Les Châtelliers-Châteaumur\, Les Châtelliers-Châteaummur\, SEVREMONT\, France
CATEGORIES:loisirs
END:VEVENT
END:VCALENDAR