BEGIN:VCALENDAR
VERSION:2.0
PRODID:-//Commune de Sevremont - ECPv4.7.3//NONSGML v1.0//EN
CALSCALE:GREGORIAN
METHOD:PUBLISH
X-WR-CALNAME:Commune de Sevremont
X-ORIGINAL-URL:https://www.sevremont.fr
X-WR-CALDESC:Évènements pour Commune de Sevremont
BEGIN:VEVENT
DTSTART;TZID=Europe/Paris:20220625T100000
DTEND;TZID=Europe/Paris:20220625T130000
DTSTAMP:20260421T171714
CREATED:20220621T073237Z
LAST-MODIFIED:20220621T073237Z
UID:442447-1656151200-1656162000@www.sevremont.fr
SUMMARY:Portes ouvertes de l'école de musique de l'association "Les Arts Sèvremontains"
DESCRIPTION:L’école de musique\, qui démarrera en septembre prochain\, proposera : \n> la création d’un groupe pop-rock (mise en scène\, concert)\, \n> des cours de piano\, de guitare\, de basse\, de batterie et d’instruments à vent\, \n> des cours de chant (répertoire variété – pop)\, \n> des cours de Musique Assistée par Ordinateur (M.A.O.)\, \n> un atelier d’écriture et de composition. \n  \nLes séances auront lieu à la mairie de Les Châtelliers-Châteaumur\, qui dispose de petites salles disponibles\, afin de ne pas déplacer les instruments après chaque utilisation. \nLes tarifs qui seront appliqués ont été harmonisés avec les autres écoles du bocage. Il sera possible de payer avec des chèques vacances. \n
URL:https://www.sevremont.fr/evenement/portes-ouvertes-de-lecole-de-musique-de-lassociation-les-arts-sevremontains/
LOCATION:Salle de la Butte (mairie) – Les Châtelliers-Châteaumur
CATEGORIES:culture
ORGANIZER;CN="Les%20Arts%20S%C3%A8vremontains":MAILTO:artssevremontains@gmail.com
END:VEVENT
END:VCALENDAR