BEGIN:VCALENDAR
VERSION:2.0
PRODID:-//Commune de Sevremont - ECPv4.7.3//NONSGML v1.0//EN
CALSCALE:GREGORIAN
METHOD:PUBLISH
X-WR-CALNAME:Commune de Sevremont
X-ORIGINAL-URL:https://www.sevremont.fr
X-WR-CALDESC:Évènements pour Commune de Sevremont
BEGIN:VEVENT
DTSTART;TZID=Europe/Paris:20220625T100000
DTEND;TZID=Europe/Paris:20220625T180000
DTSTAMP:20260421T153931
CREATED:20220318T134825Z
LAST-MODIFIED:20220318T134825Z
UID:408401-1656151200-1656180000@www.sevremont.fr
SUMMARY:Portes ouvertes La Ferme du Bonheur 85
DESCRIPTION:Stands d’artisans\, maquillage enfant\, buvette\, barbecue végétarien… \n
URL:https://www.sevremont.fr/evenement/portes-ouvertes-la-ferme-du-bonheur-85/
LOCATION:La Grande Berle – Les Châtelliers-Châteaumur
CATEGORIES:nature
ATTACH;FMTTYPE=image/jpeg:https://www.sevremont.fr/wp-content/uploads/2019/07/logo-la-ferme-du-bonheur-85.jpg
ORGANIZER;CN="La%20Ferme%20du%20Bonheur%2085":MAILTO:lafermedubonheur85@gmail.com
END:VEVENT
END:VCALENDAR