BEGIN:VCALENDAR
VERSION:2.0
PRODID:-//Commune de Sevremont - ECPv4.7.3//NONSGML v1.0//EN
CALSCALE:GREGORIAN
METHOD:PUBLISH
X-WR-CALNAME:Commune de Sevremont
X-ORIGINAL-URL:https://www.sevremont.fr
X-WR-CALDESC:Évènements pour Commune de Sevremont
BEGIN:VEVENT
DTSTART;VALUE=DATE:20220501
DTEND;VALUE=DATE:20220502
DTSTAMP:20260421T171309
CREATED:20220126T155649Z
LAST-MODIFIED:20220425T084344Z
UID:389981-1651363200-1651449599@www.sevremont.fr
SUMMARY:Randonnée de l'Ecluse
DESCRIPTION:Départ libre entre 7h30 et 9h30. \n5 circuits : 4 – 9 – 14 – 17 – 20 km. \nUn sandwich et une boisson à l’arrivée. \n  \n \n
URL:https://www.sevremont.fr/evenement/randonnee/
LOCATION:Salle de sports La Moutardière – La Pommeraie-sur-Sèvre
CATEGORIES:loisirs,patrimoine et histoire
ATTACH;FMTTYPE=image/jpeg:https://www.sevremont.fr/wp-content/uploads/2019/07/lecluse.jpg
END:VEVENT
END:VCALENDAR