BEGIN:VCALENDAR
VERSION:2.0
PRODID:-//Commune de Sevremont - ECPv4.7.3//NONSGML v1.0//EN
CALSCALE:GREGORIAN
METHOD:PUBLISH
X-WR-CALNAME:Commune de Sevremont
X-ORIGINAL-URL:https://www.sevremont.fr
X-WR-CALDESC:Évènements pour Commune de Sevremont
BEGIN:VEVENT
DTSTART;TZID=Europe/Paris:20190913T193000
DTEND;TZID=Europe/Paris:20190913T193000
DTSTAMP:20260421T233535
CREATED:20190909T145417Z
LAST-MODIFIED:20190911T120520Z
UID:50690-1568403000-1568403000@www.sevremont.fr
SUMMARY:Rencontre avec les acteurs économiques
DESCRIPTION:
URL:https://www.sevremont.fr/evenement/rencontre-avec-les-acteurs-economiques/
LOCATION:Salle Marquis de Surgères – La Flocellière\, Place Marquis de Surgères-La Flocellière\, SEVREMONT\, 85700\, France
CATEGORIES:économie
END:VEVENT
END:VCALENDAR