BEGIN:VCALENDAR
VERSION:2.0
PRODID:-//Commune de Sevremont - ECPv4.7.3//NONSGML v1.0//EN
CALSCALE:GREGORIAN
METHOD:PUBLISH
X-WR-CALNAME:Commune de Sevremont
X-ORIGINAL-URL:https://www.sevremont.fr
X-WR-CALDESC:Évènements pour Commune de Sevremont
BEGIN:VEVENT
DTSTART;TZID=Europe/Paris:20200821T190000
DTEND;TZID=Europe/Paris:20200821T203000
DTSTAMP:20260421T185853
CREATED:20200716T084139Z
LAST-MODIFIED:20200716T084139Z
UID:159828-1598036400-1598041800@www.sevremont.fr
SUMMARY:Rendez-vous en terrain connu : les tourbières
DESCRIPTION:À la découverte de la flore sauvage de nos tourbières : trèfle d’eau\, linaigrette\, sphaignes… sur la pointe des pieds\, venez à la rencontre d’une flore très rare que l’on ne peut observer que dans les tourbières\, ces écosystèmes fragiles et rarement accessibles. \nL’apéro convivial autour de produits du terroir éveillera vos papilles pour clôturer cette belle soirée. \nRDV au village de L’Hommondière – La Flocellière. \n5 € à partir de 13 ans. \n  \nRéservation obligatoire : 02 51 91 82 46 – tourisme-paysdepouzauges.fr  \n
URL:https://www.sevremont.fr/evenement/rendez-vous-en-terrain-connu-les-tourbieres/
CATEGORIES:patrimoine et histoire
ATTACH;FMTTYPE=image/jpeg:https://www.sevremont.fr/wp-content/uploads/2020/07/RDV-en-terrain-connu.jpg
ORGANIZER;CN="CPIE%20S%C3%A8vre%20et%20Bocage":MAILTO:contact@cpie-sevre-bocage.com
END:VEVENT
END:VCALENDAR