BEGIN:VCALENDAR
VERSION:2.0
PRODID:-//Commune de Sevremont - ECPv4.7.3//NONSGML v1.0//EN
CALSCALE:GREGORIAN
METHOD:PUBLISH
X-WR-CALNAME:Commune de Sevremont
X-ORIGINAL-URL:https://www.sevremont.fr
X-WR-CALDESC:Évènements pour Commune de Sevremont
BEGIN:VEVENT
DTSTART;TZID=Europe/Paris:20200814T190000
DTEND;TZID=Europe/Paris:20200814T203000
DTSTAMP:20260421T153339
CREATED:20200716T074845Z
LAST-MODIFIED:20200716T075731Z
UID:159752-1597431600-1597437000@www.sevremont.fr
SUMMARY:Rendez-vous en terrain connu : Châteaumur
DESCRIPTION:Une visite guidée pour connaître l’histoire méconnue du bourg de Châteaumur\, suivie d’un apéritif convivial autour de produits du terroir. \nOrganisée par l’office de Tourisme du Pays de Pouzauges\, en collaboration avec le CPIE Sèvre et Bocage. \nRDV au parc des Lavandières. \n5 € à partir de 13 ans. \n  \nRéservation obligatoire : 02 51 91 82 46 – tourisme-paysdepouzauges.fr  \n
URL:https://www.sevremont.fr/evenement/rendez-vous-en-terrain-connu/
LOCATION:Parc des Lavandières – Les Châtelliers-Châteaumur\, Parc des Lavandières - Les Châtelliers-Châteaumur\, SEVREMONT\, 85700\, France
CATEGORIES:patrimoine et histoire
ATTACH;FMTTYPE=image/jpeg:https://www.sevremont.fr/wp-content/uploads/2020/07/RDV-en-terrain-connu.jpg
ORGANIZER;CN="Office%20de%20Tourisme%20du%20Pays%20de%20Pouzauges":MAILTO:accueil@tourisme-paysdepouzauges.fr
END:VEVENT
END:VCALENDAR