BEGIN:VCALENDAR
VERSION:2.0
PRODID:-//Commune de Sevremont - ECPv4.7.3//NONSGML v1.0//EN
CALSCALE:GREGORIAN
METHOD:PUBLISH
X-WR-CALNAME:Commune de Sevremont
X-ORIGINAL-URL:https://www.sevremont.fr
X-WR-CALDESC:Évènements pour Commune de Sevremont
BEGIN:VEVENT
DTSTART;VALUE=DATE:20191212
DTEND;VALUE=DATE:20191213
DTSTAMP:20260421T135958
CREATED:20190705T090601Z
LAST-MODIFIED:20190705T090601Z
UID:26805-1576108800-1576195199@www.sevremont.fr
SUMMARY:Repas de Noël-Club de loisirs Castelmurois
DESCRIPTION:
URL:https://www.sevremont.fr/evenement/repas-de-noel-club-de-loisirs-castelmurois/
LOCATION:Salle Châteaumur – Les Châtelliers-Châteaumur\, Les Châtelliers-Châteaummur\, SEVREMONT\, France
CATEGORIES:loisirs
END:VEVENT
END:VCALENDAR