BEGIN:VCALENDAR
VERSION:2.0
PRODID:-//Commune de Sevremont - ECPv4.7.3//NONSGML v1.0//EN
CALSCALE:GREGORIAN
METHOD:PUBLISH
X-WR-CALNAME:Commune de Sevremont
X-ORIGINAL-URL:https://www.sevremont.fr
X-WR-CALDESC:Évènements pour Commune de Sevremont
BEGIN:VEVENT
DTSTART;TZID=Europe/Paris:20191213T203000
DTEND;TZID=Europe/Paris:20191213T230000
DTSTAMP:20260421T153340
CREATED:20190903T092134Z
LAST-MODIFIED:20190903T092134Z
UID:47537-1576269000-1576278000@www.sevremont.fr
SUMMARY:Soirée Campus - CPIE
DESCRIPTION:Le 13 décembre\, nous accueillerons des cow-boys du Poitou qui surveillent des troupeaux de vaches mis en pâturage tout l’été dans le Marais Poitevin. Projection du film « Il était une fois dans l’Ouest du Poitou » et débat en présence d’éleveurs du Bocage. \n
URL:https://www.sevremont.fr/evenement/soiree-campus-cpie-2/
CATEGORIES:culture
END:VEVENT
END:VCALENDAR