BEGIN:VCALENDAR
VERSION:2.0
PRODID:-//Commune de Sevremont - ECPv4.7.3//NONSGML v1.0//EN
CALSCALE:GREGORIAN
METHOD:PUBLISH
X-WR-CALNAME:Commune de Sevremont
X-ORIGINAL-URL:https://www.sevremont.fr
X-WR-CALDESC:Évènements pour Commune de Sevremont
BEGIN:VEVENT
DTSTART;VALUE=DATE:20191102
DTEND;VALUE=DATE:20191103
DTSTAMP:20260421T204650
CREATED:20190704T154042Z
LAST-MODIFIED:20190704T154042Z
UID:22715-1572652800-1572739199@www.sevremont.fr
SUMMARY:Soirée hivernale organisée par le Comité des Fêtes
DESCRIPTION:
URL:https://www.sevremont.fr/evenement/soiree-hivernale-organisee-par-le-comite-des-fetes/
LOCATION:Salle Les Lavandières – La Pommeraie-sur-Sèvre\, rue des Lavandières - La Pommeraie-sur-Sèvre\, SEVREMONT
CATEGORIES:loisirs
END:VEVENT
END:VCALENDAR