BEGIN:VCALENDAR
VERSION:2.0
PRODID:-//Commune de Sevremont - ECPv4.7.3//NONSGML v1.0//EN
CALSCALE:GREGORIAN
METHOD:PUBLISH
X-WR-CALNAME:Commune de Sevremont
X-ORIGINAL-URL:https://www.sevremont.fr
X-WR-CALDESC:Évènements pour Commune de Sevremont
BEGIN:VEVENT
DTSTART;TZID=Europe/Paris:20190921T090000
DTEND;TZID=Europe/Paris:20190921T140000
DTSTAMP:20260421T172142
CREATED:20190910T065155Z
LAST-MODIFIED:20190910T065414Z
UID:50900-1569056400-1569074400@www.sevremont.fr
SUMMARY:Stage cuisine végétale - CPIE -
DESCRIPTION:\nSTAGE CUISINE – FAIRE LE PLEIN DE SOLEIL AVEC LES FRUITS ET LÉGUMES DE FIN D’ÉTÉ\n\n \n\n \n\n\n\nRoulés\, farcis\, confits\, crus ou cuits et même dans des préparations sucrées : un atelier pratique et convivial pour découvrir de nouvelles recettes pour sublimer les aubergines\, courgettes\, tomates et poivrons récoltés en fin d’été. Ensemble\, vous cuisinerez puis dégusterez des recettes sucrées et salées à partir des légumes d’été pour varier les plaisirs… \npour le programme\, cliquez ICI \n\nMaison de la Vie Rurale\nLa Bernardière\nLa Flocellière\n85700 Sèvremont \n\n\n\n\n\n\n\n\n \n\n\n \n\n\n \n\n\n\n\n\n \n\n\n\n\n \n\n \n\n\n\nContact : Julie Croizille\n0251577714\nj.croizille@cpie-sevre-bocage.com\n\n\n\n
URL:https://www.sevremont.fr/evenement/stage-cuisine-vegetale-cpie/
LOCATION:Maison de la Vie Rurale
CATEGORIES:Autres
END:VEVENT
END:VCALENDAR