BEGIN:VCALENDAR
VERSION:2.0
PRODID:-//Commune de Sevremont - ECPv4.7.3//NONSGML v1.0//EN
CALSCALE:GREGORIAN
METHOD:PUBLISH
X-WR-CALNAME:Commune de Sevremont
X-ORIGINAL-URL:https://www.sevremont.fr
X-WR-CALDESC:Évènements pour Commune de Sevremont
BEGIN:VEVENT
DTSTART;VALUE=DATE:20190914
DTEND;VALUE=DATE:20190915
DTSTAMP:20260421T202714
CREATED:20190909T145111Z
LAST-MODIFIED:20190909T145202Z
UID:50670-1568419200-1568505599@www.sevremont.fr
SUMMARY:Stage plantes médicinales à la Maison de la vie rurale
DESCRIPTION:http://www.cpie-sevre-bocage.com/cpie/Content.aspx?ID=191106 \n  \nAprès un temps de dégustation-repas partagé sur place\, plusieurs techniques de séchage et de conservation des plantes\, fruits et légumes vous seront présentés. Entre séchage\,conservation au sel\, au vinaigre\, en bocal ou au congélateur\, le champ des possibles est large ! \nSite web : aucoeurdesplantes.jimdo.com \nAvec Elodie Texier\, productrice de plantes aromatiques et médicinales à Sèvremont.\nTarif : 30€ (+adhésion annuelle à l’association 15€) \nRéservations obligatoires au 02 51 57 77 14\, places limitées.\nA la Maison de la Vie Rurale à La Flocellière – Sèvremont \n
URL:https://www.sevremont.fr/evenement/stage-plantes-medicinales-a-la-maison-de-la-vie-rurale/
END:VEVENT
END:VCALENDAR