BEGIN:VCALENDAR
VERSION:2.0
PRODID:-//Commune de Sevremont - ECPv4.7.3//NONSGML v1.0//EN
CALSCALE:GREGORIAN
METHOD:PUBLISH
X-WR-CALNAME:Commune de Sevremont
X-ORIGINAL-URL:https://www.sevremont.fr
X-WR-CALDESC:Évènements pour Commune de Sevremont
BEGIN:VEVENT
DTSTART;TZID=Europe/Paris:20220625T090000
DTEND;TZID=Europe/Paris:20220625T120000
DTSTAMP:20260421T172100
CREATED:20220318T134551Z
LAST-MODIFIED:20220318T134551Z
UID:408380-1656147600-1656158400@www.sevremont.fr
SUMMARY:Stage "soins naturels face aux infections"
DESCRIPTION:Partage autour des plantes de chez nous\, quelques idées « maisons » à réaliser et un produit à emporter. \n
URL:https://www.sevremont.fr/evenement/stage-soins-naturels-face-aux-infections/
LOCATION:Maison de la Vie Rurale
CATEGORIES:nature
ATTACH;FMTTYPE=image/jpeg:https://www.sevremont.fr/wp-content/uploads/2020/12/LOGO-CPIE-Sèvre-et-Bocage.jpg
ORGANIZER;CN="CPIE%20S%C3%A8vre%20et%20Bocage":MAILTO:contact@cpie-sevre-bocage.com
END:VEVENT
END:VCALENDAR