BEGIN:VCALENDAR
VERSION:2.0
PRODID:-//Commune de Sevremont - ECPv4.7.3//NONSGML v1.0//EN
CALSCALE:GREGORIAN
METHOD:PUBLISH
X-WR-CALNAME:Commune de Sevremont
X-ORIGINAL-URL:https://www.sevremont.fr
X-WR-CALDESC:Évènements pour Commune de Sevremont
BEGIN:VEVENT
DTSTART;TZID=Europe/Paris:20260523T090000
DTEND;TZID=Europe/Paris:20260524T170000
DTSTAMP:20260420T012645
CREATED:20260326T151737Z
LAST-MODIFIED:20260326T151737Z
UID:987836-1779526800-1779642000@www.sevremont.fr
SUMMARY:Tournoi national de basket
DESCRIPTION: \n
URL:https://www.sevremont.fr/evenement/tournoi-national-de-basket/
LOCATION:Complexe sportif du Mont Mercure\, route du Puy-Lambert-La Flocellière\, SEVREMONT\, 85700\, France
CATEGORIES:sports
END:VEVENT
END:VCALENDAR