BEGIN:VCALENDAR
VERSION:2.0
PRODID:-//Commune de Sevremont - ECPv4.7.3//NONSGML v1.0//EN
CALSCALE:GREGORIAN
METHOD:PUBLISH
X-WR-CALNAME:Commune de Sevremont
X-ORIGINAL-URL:https://www.sevremont.fr
X-WR-CALDESC:Évènements pour Commune de Sevremont
BEGIN:VEVENT
DTSTART;VALUE=DATE:20200828
DTEND;VALUE=DATE:20200830
DTSTAMP:20260421T235623
CREATED:20200716T114542Z
LAST-MODIFIED:20200716T114542Z
UID:160279-1598572800-1598745599@www.sevremont.fr
SUMMARY:Visite guidée de l’église de Saint Michel-Mont-Mercure
DESCRIPTION:Visite guidée de l’église de Saint Michel-Mont-Mercure\, point culminant de la Vendée et son clocher accessible en 199 marches. \nRendez-vous au pied du Clocher. \nChaque vendredi et samedi à 17h30 et 18h15. \n
URL:https://www.sevremont.fr/evenement/visite-guidee-de-leglise-de-saint-michel-mont-mercure-8/
CATEGORIES:patrimoine et histoire
END:VEVENT
END:VCALENDAR