BEGIN:VCALENDAR
VERSION:2.0
PRODID:-//Commune de Sevremont - ECPv4.7.3//NONSGML v1.0//EN
CALSCALE:GREGORIAN
METHOD:PUBLISH
X-WR-CALNAME:Commune de Sevremont
X-ORIGINAL-URL:https://www.sevremont.fr
X-WR-CALDESC:Évènements pour Commune de Sevremont
BEGIN:VEVENT
DTSTART;TZID=Europe/Paris:20190921T140000
DTEND;TZID=Europe/Paris:20190921T140000
DTSTAMP:20260421T191838
CREATED:20190910T070251Z
LAST-MODIFIED:20190919T075550Z
UID:50964-1569074400-1569074400@www.sevremont.fr
SUMMARY:Xclus-Merci d'être VENU.E.S !
DESCRIPTION:Pour le programme\, suivre le lien ICI \n
URL:https://www.sevremont.fr/evenement/xclus-merci-detre-venu-e-s/
CATEGORIES:Autres
ORGANIZER;CN="AMI%20Pouzauges":MAILTO:ami.paysdepouzauges@gmail.com
END:VEVENT
END:VCALENDAR